BEGIN:VCALENDAR
VERSION:2.0
PRODID:-//Donor Alliance - ECPv6.15.18//NONSGML v1.0//EN
CALSCALE:GREGORIAN
METHOD:PUBLISH
X-WR-CALNAME:Donor Alliance
X-ORIGINAL-URL:https://www.donoralliance.org/es/
X-WR-CALDESC:Eventos para Donor Alliance
REFRESH-INTERVAL;VALUE=DURATION:PT1H
X-Robots-Tag:noindex
X-PUBLISHED-TTL:PT1H
BEGIN:VTIMEZONE
TZID:America/Denver
BEGIN:DAYLIGHT
TZOFFSETFROM:-0700
TZOFFSETTO:-0600
TZNAME:MDT
DTSTART:20250309T090000
END:DAYLIGHT
BEGIN:STANDARD
TZOFFSETFROM:-0600
TZOFFSETTO:-0700
TZNAME:MST
DTSTART:20251102T080000
END:STANDARD
BEGIN:DAYLIGHT
TZOFFSETFROM:-0700
TZOFFSETTO:-0600
TZNAME:MDT
DTSTART:20260308T090000
END:DAYLIGHT
BEGIN:STANDARD
TZOFFSETFROM:-0600
TZOFFSETTO:-0700
TZNAME:MST
DTSTART:20261101T080000
END:STANDARD
BEGIN:DAYLIGHT
TZOFFSETFROM:-0700
TZOFFSETTO:-0600
TZNAME:MDT
DTSTART:20270314T090000
END:DAYLIGHT
BEGIN:STANDARD
TZOFFSETFROM:-0600
TZOFFSETTO:-0700
TZNAME:MST
DTSTART:20271107T080000
END:STANDARD
END:VTIMEZONE
BEGIN:VEVENT
DTSTART;VALUE=DATE:20260401
DTEND;VALUE=DATE:20260501
DTSTAMP:20260421T131341
CREATED:20260318T171625Z
LAST-MODIFIED:20260325T201240Z
UID:10000563-1775001600-1777593599@www.donoralliance.org
SUMMARY:Biblioteca Pública del Condado de Albany - Estación de Información
DESCRIPTION:Visita la Biblioteca Pública del Condado de Natrona para consultar materiales educativos sobre la donación\, recursos para registrarse\, actividades del Mes Nacional de Done Vida e historias sobre la importancia de la donación de órganos\, ojos y tejidos.
URL:https://www.donoralliance.org/es/event/albany-county-public-library-information-station/
LOCATION:Albany County Public Library\, 310 S. 8th St.\, Laramie\, WY\, 82070\, United States
ATTACH;FMTTYPE=image/jpeg:https://www.donoralliance.org/wp-content/uploads/2026/03/25956.jpg
END:VEVENT
BEGIN:VEVENT
DTSTART;VALUE=DATE:20260401
DTEND;VALUE=DATE:20260501
DTSTAMP:20260421T131341
CREATED:20260324T161356Z
LAST-MODIFIED:20260325T201442Z
UID:10000564-1775001600-1777593599@www.donoralliance.org
SUMMARY:Iluminación del Oil Derrick de Casper
DESCRIPTION:Los Platte River Trails iluminarán su Oil Derrick para destacar la importancia de registrarse como donante de órganos\, ojos y tejidos.
URL:https://www.donoralliance.org/es/event/casper-oil-derrick-illumination-2/
LOCATION:Tate Pumphouse\, 1775 W. First St.\, Casper\, WY\, 82601\, United States
ATTACH;FMTTYPE=image/jpeg:https://www.donoralliance.org/wp-content/uploads/2025/03/8J6A2738af-Flag.jpg
END:VEVENT
BEGIN:VEVENT
DTSTART;TZID=America/Denver:20260421T100000
DTEND;TZID=America/Denver:20260421T100000
DTSTAMP:20260421T131341
CREATED:20260325T165622Z
LAST-MODIFIED:20260326T181115Z
UID:10000595-1776765600-1776765600@www.donoralliance.org
SUMMARY:Proclamación del Condado de Eagle
DESCRIPTION:Abril es el Mes Nacional de Done Vida\, una conmemoración nacional que destaca la importancia de la donación de órganos\, ojos y tejidos. Las proclamaciones generan conciencia sobre lo que significa ser donante de órganos y resaltan la colaboración entre Donor Alliance y nuestra comunidad del condado de Eagle. Este evento se llevará a cabo en colaboración con la Chris Klug Foundation.
URL:https://www.donoralliance.org/es/event/eagle-county-proclamation/
LOCATION:110 E Hallam St 102B Aspen\, CO
CATEGORIES:Community
ATTACH;FMTTYPE=image/jpeg:https://www.donoralliance.org/wp-content/uploads/2026/03/Blog-Cover-Photo-2.jpg
END:VEVENT
BEGIN:VEVENT
DTSTART;TZID=America/Denver:20260422T100000
DTEND;TZID=America/Denver:20260422T103000
DTSTAMP:20260421T131341
CREATED:20260305T234218Z
LAST-MODIFIED:20260326T181325Z
UID:10000596-1776852000-1776853800@www.donoralliance.org
SUMMARY:Ceremonia de corte de cinta en Cheyenne Driver Services
DESCRIPTION:¿Sabías que más del 90% de los donantes de órganos\, ojos y tejidos registrados toman su decisión en los servicios de manejo de licencias? ¡Demos las gracias a WYDOT Driver Services por su contribución a salvar y sanar vidas! Únete a nosotros para escuchar algunas palabras\, seguido de una ceremonia de corte de cinta\, el lanzamiento oficial de nuestra campaña “Check The Box” con la participación de atletas de la University of Wyoming\, y refrigerios ligeros.
URL:https://www.donoralliance.org/es/event/cheyenne-driver-services-ribbon-cutting/
LOCATION:Cheyenne Driver Services\, 1520 Etchepare Cir\, Cheyenne\, WY\, 82007\, United States
ATTACH;FMTTYPE=image/jpeg:https://www.donoralliance.org/wp-content/uploads/2026/03/Check-the-box-campaign-DMV_Colorado_0004.jpg
END:VEVENT
BEGIN:VEVENT
DTSTART;TZID=America/Denver:20260422T140000
DTEND;TZID=America/Denver:20260422T143000
DTSTAMP:20260421T131341
CREATED:20260305T234522Z
LAST-MODIFIED:20260326T181600Z
UID:10000597-1776866400-1776868200@www.donoralliance.org
SUMMARY:Ceremonia de corte de Cinta en Laramie  Driver Services
DESCRIPTION:¿Sabías que más del 90% de los donantes de órganos\, ojos y tejidos registrados toman su decisión en los servicios de manejo de licencias? ¡Demos las gracias a WYDOT Driver Services por su contribución a salvar y sanar vidas! Únete a nosotros para escuchar algunas palabras\, seguido de una ceremonia de corte de cinta\, el lanzamiento oficial de nuestra campaña “Check The Box” con la participación de atletas de la University of Wyoming y refrigerios ligeros.
URL:https://www.donoralliance.org/es/event/laramie-driver-services-ribbon-cutting/
LOCATION:Laramie Driver Services\, 3411 S 3rd St LOT 8\, Laramie\, WY\, 82070\, United States
ATTACH;FMTTYPE=image/jpeg:https://www.donoralliance.org/wp-content/uploads/2026/03/Check-the-box-campaign-DMV_Colorado_0004.jpg
END:VEVENT
BEGIN:VEVENT
DTSTART;TZID=America/Denver:20260423T100000
DTEND;TZID=America/Denver:20260423T103000
DTSTAMP:20260421T131341
CREATED:20260316T165518Z
LAST-MODIFIED:20260326T181821Z
UID:10000598-1776938400-1776940200@www.donoralliance.org
SUMMARY:Ceremonia de Corte de Cinta en Casper Driver Services
DESCRIPTION:¿Sabías que más del 90% de los donantes de órganos\, ojos y tejidos registrados toman su decisión en los servicios de manejo de licencias? ¡Demos las gracias a WYDOT Driver Services por su contribución a salvar y sanar vidas! Únete a nosotros para escuchar algunas palabras\, seguido de una ceremonia de corte de cinta\, el lanzamiento oficial de nuestra campaña “Check The Box” con la participación de atletas de la University of Wyoming y refrigerios ligeros.
URL:https://www.donoralliance.org/es/event/casper-driver-services-ribbon-cutting/
LOCATION:Casper Drivers License Department\, 800 Bryan Stock Trl\,\, Casper\, WY\, 82601\, United States
ATTACH;FMTTYPE=image/jpeg:https://www.donoralliance.org/wp-content/uploads/2026/03/Check-the-box-campaign-DMV_Colorado_0004.jpg
END:VEVENT
BEGIN:VEVENT
DTSTART;TZID=America/Denver:20260425T080000
DTEND;TZID=America/Denver:20260425T080000
DTSTAMP:20260421T131341
CREATED:20260113T232815Z
LAST-MODIFIED:20260326T182003Z
UID:10000599-1777104000-1777104000@www.donoralliance.org
SUMMARY:Wyoming Donor Dash
DESCRIPTION:Honrando las vidas de los donantes de órganos\, ojos y tejidos\, celebrando las vidas de los receptores de trasplantes y reconociendo a quienes continúan esperando un trasplante\, únete a nosotros en la carrera anual Wyoming Donor Dash. El Wyoming Donor Dash 2026 se llevará a cabo el sábado 25 de abril de 2026. ¡Consulta nuestra página de Wyoming Donor Dash para más detalles! \n 
URL:https://www.donoralliance.org/es/event/wyoming-donor-dash-3/
LOCATION:Tate Pumphouse\, 1775 W. First St.\, Casper\, WY\, 82601\, United States
ATTACH;FMTTYPE=image/jpeg:https://www.donoralliance.org/wp-content/uploads/2025/01/wy-dd.jpg
END:VEVENT
BEGIN:VEVENT
DTSTART;TZID=America/Denver:20260426T090000
DTEND;TZID=America/Denver:20260426T090000
DTSTAMP:20260421T131341
CREATED:20260325T170136Z
LAST-MODIFIED:20260326T182143Z
UID:10000600-1777194000-1777194000@www.donoralliance.org
SUMMARY:Día del Niño en el Denver Museum of Nature & Science
DESCRIPTION:Donor Alliance está apoyando al Mexican Cultural Center mientras celebramos el Día del Niño junto con el Denver Museum of Nature & Science y el Mexican Cultural Center el domingo 26 de abril. ¡Nuestro personal\, educadores de Transplantation Science y voluntarios tendrán un stand con divertidas actividades educativas! Además de la entrada general GRATUITA para todos los visitantes\, la celebración incluirá presentaciones especiales\, música y actividades para toda la familia.
URL:https://www.donoralliance.org/es/event/dia-del-nino-at-the-denver-museum-of-nature-science-3/
LOCATION:Denver Museum of Nature and Science  2001 Colorado Blvd\, Denver\, CO 80205
CATEGORIES:Community
ATTACH;FMTTYPE=image/jpeg:https://www.donoralliance.org/wp-content/uploads/2025/02/dia-del-nino.jpg
END:VEVENT
BEGIN:VEVENT
DTSTART;TZID=America/Denver:20260429T103000
DTEND;TZID=America/Denver:20260429T103000
DTSTAMP:20260421T131341
CREATED:20260324T204126Z
LAST-MODIFIED:20260326T182355Z
UID:10000601-1777458600-1777458600@www.donoralliance.org
SUMMARY:Good Samaritan Hospital - Izamiento de Bandera
DESCRIPTION:Abril es el Mes Nacional de Done Vida\, una conmemoración nacional que destaca la importancia de la donación de órganos\, ojos y tejidos. Las ceremonias de izamiento de la bandera generan conciencia sobre lo que significa ser donante de órganos y resaltan la colaboración entre Donor Alliance y Good Samaritan Hospital. El evento se llevará a cabo junto a la bandera cerca de la entrada principal del hospital.
URL:https://www.donoralliance.org/es/event/good-samaritan-hospital-flag-raising/
LOCATION:200 Exempla Circle\, Lafayette\, CO\, 80026
CATEGORIES:Socio Hospitalario
ATTACH;FMTTYPE=image/jpeg:https://www.donoralliance.org/wp-content/uploads/2025/03/baf155239d035333449f2b31dacea674-large.jpg
END:VEVENT
END:VCALENDAR