BEGIN:VCALENDAR
VERSION:2.0
PRODID:-//Donor Alliance - ECPv6.15.18//NONSGML v1.0//EN
CALSCALE:GREGORIAN
METHOD:PUBLISH
X-WR-CALNAME:Donor Alliance
X-ORIGINAL-URL:https://www.donoralliance.org
X-WR-CALDESC:Events for Donor Alliance
REFRESH-INTERVAL;VALUE=DURATION:PT1H
X-Robots-Tag:noindex
X-PUBLISHED-TTL:PT1H
BEGIN:VTIMEZONE
TZID:America/Denver
BEGIN:DAYLIGHT
TZOFFSETFROM:-0700
TZOFFSETTO:-0600
TZNAME:MDT
DTSTART:20250309T090000
END:DAYLIGHT
BEGIN:STANDARD
TZOFFSETFROM:-0600
TZOFFSETTO:-0700
TZNAME:MST
DTSTART:20251102T080000
END:STANDARD
BEGIN:DAYLIGHT
TZOFFSETFROM:-0700
TZOFFSETTO:-0600
TZNAME:MDT
DTSTART:20260308T090000
END:DAYLIGHT
BEGIN:STANDARD
TZOFFSETFROM:-0600
TZOFFSETTO:-0700
TZNAME:MST
DTSTART:20261101T080000
END:STANDARD
BEGIN:DAYLIGHT
TZOFFSETFROM:-0700
TZOFFSETTO:-0600
TZNAME:MDT
DTSTART:20270314T090000
END:DAYLIGHT
BEGIN:STANDARD
TZOFFSETFROM:-0600
TZOFFSETTO:-0700
TZNAME:MST
DTSTART:20271107T080000
END:STANDARD
END:VTIMEZONE
BEGIN:VEVENT
DTSTART;VALUE=DATE:20260401
DTEND;VALUE=DATE:20260501
DTSTAMP:20260422T093914
CREATED:20260318T171625Z
LAST-MODIFIED:20260318T171625Z
UID:10000529-1775001600-1777593599@www.donoralliance.org
SUMMARY:Albany County Public Library - Information Station
DESCRIPTION:Stop by the Natrona County Public Library to check out donation education materials\, registration resources\, National Donate Life Month activities\, and stories about the importance of organ\, eye and tissue donation.
URL:https://www.donoralliance.org/event/albany-county-public-library-information-station/
LOCATION:Albany County Public Library\, 310 S. 8th St.\, Laramie\, WY\, 82070\, United States
ATTACH;FMTTYPE=image/jpeg:https://www.donoralliance.org/wp-content/uploads/2026/03/25956.jpg
END:VEVENT
BEGIN:VEVENT
DTSTART;VALUE=DATE:20260401
DTEND;VALUE=DATE:20260501
DTSTAMP:20260422T093914
CREATED:20260324T161356Z
LAST-MODIFIED:20260324T161356Z
UID:10000544-1775001600-1777593599@www.donoralliance.org
SUMMARY:Casper Oil Derrick Illumination
DESCRIPTION:The Platte River Trails will be illuminating their oil derrick to shine a light on the importance of registering to be an organ\, eye\, and tissue donor.
URL:https://www.donoralliance.org/event/casper-oil-derrick-illumination-2/
LOCATION:Tate Pumphouse\, 1775 W. First St.\, Casper\, WY\, 82601\, United States
ATTACH;FMTTYPE=image/jpeg:https://www.donoralliance.org/wp-content/uploads/2025/03/8J6A2738af-Flag.jpg
END:VEVENT
BEGIN:VEVENT
DTSTART;TZID=America/Denver:20260422T100000
DTEND;TZID=America/Denver:20260422T103000
DTSTAMP:20260422T093914
CREATED:20260305T234218Z
LAST-MODIFIED:20260316T165208Z
UID:10000508-1776852000-1776853800@www.donoralliance.org
SUMMARY:Cheyenne Driver Services Ribbon Cutting
DESCRIPTION:Did you know over 90% of registered organ\, eye & tissue donors make their decision at driver services? Let’s say ‘thank you’ to WYDOT Driver Services for their contribution to saving and healing lives! Join us for remarks followed by a ribbon cutting ceremony\, the official roll out of our ‘Check The Box’ campaign featuring University of Wyoming athletes\, and light refreshments.
URL:https://www.donoralliance.org/event/cheyenne-driver-services-ribbon-cutting/
LOCATION:Cheyenne Driver Services\, 1520 Etchepare Cir\, Cheyenne\, WY\, 82007\, United States
ATTACH;FMTTYPE=image/jpeg:https://www.donoralliance.org/wp-content/uploads/2026/03/Check-the-box-campaign-DMV_Colorado_0004.jpg
END:VEVENT
BEGIN:VEVENT
DTSTART;TZID=America/Denver:20260422T140000
DTEND;TZID=America/Denver:20260422T143000
DTSTAMP:20260422T093914
CREATED:20260305T234522Z
LAST-MODIFIED:20260316T165126Z
UID:10000509-1776866400-1776868200@www.donoralliance.org
SUMMARY:Laramie Driver Services Ribbon Cutting
DESCRIPTION:Did you know over 90% of registered organ\, eye & tissue donors make their decision at driver services? Let’s say ‘thank you’ to WYDOT Driver Services for their contribution to saving and healing lives! Join us for remarks followed by a ribbon cutting ceremony\, the official roll out of our ‘Check The Box’ campaign featuring University of Wyoming athletes\, and light refreshments.
URL:https://www.donoralliance.org/event/laramie-driver-services-ribbon-cutting/
LOCATION:Laramie Driver Services\, 3411 S 3rd St LOT 8\, Laramie\, WY\, 82070\, United States
ATTACH;FMTTYPE=image/jpeg:https://www.donoralliance.org/wp-content/uploads/2026/03/Check-the-box-campaign-DMV_Colorado_0004.jpg
END:VEVENT
BEGIN:VEVENT
DTSTART;TZID=America/Denver:20260423T100000
DTEND;TZID=America/Denver:20260423T103000
DTSTAMP:20260422T093914
CREATED:20260316T165518Z
LAST-MODIFIED:20260316T165518Z
UID:10000519-1776938400-1776940200@www.donoralliance.org
SUMMARY:Casper Driver Services Ribbon Cutting
DESCRIPTION:Did you know over 90% of registered organ\, eye & tissue donors make their decision at driver services? Let’s say ‘thank you’ to WYDOT Driver Services for their contribution to saving and healing lives! Join us for remarks followed by a ribbon cutting ceremony\, the official roll out of our ‘Check The Box’ campaign featuring University of Wyoming athletes\, and light refreshments.
URL:https://www.donoralliance.org/event/casper-driver-services-ribbon-cutting/
LOCATION:Casper Drivers License Department\, 800 Bryan Stock Trl\,\, Casper\, WY\, 82601\, United States
ATTACH;FMTTYPE=image/jpeg:https://www.donoralliance.org/wp-content/uploads/2026/03/Check-the-box-campaign-DMV_Colorado_0004.jpg
END:VEVENT
BEGIN:VEVENT
DTSTART;VALUE=DATE:20260424
DTEND;VALUE=DATE:20260425
DTSTAMP:20260422T093914
CREATED:20260325T171024Z
LAST-MODIFIED:20260325T171357Z
UID:10000551-1776988800-1777075199@www.donoralliance.org
SUMMARY:Green Mountain High School Flag Raising
DESCRIPTION:April is National Donate Life Month\, a national observance highlighting the importance of organ\, eye and tissue donation. Flag-raising ceremonies bring awareness of what it means to be an organ donor and highlights the partnership between Donor Alliance and Green Mountain High School.
URL:https://www.donoralliance.org/event/green-mountain-high-school-flag-raising/
LOCATION:13175 W Green Mountain Dr\, Lakewood\, CO 80228
CATEGORIES:Community
ATTACH;FMTTYPE=image/jpeg:https://www.donoralliance.org/wp-content/uploads/2025/03/baf155239d035333449f2b31dacea674-large.jpg
END:VEVENT
BEGIN:VEVENT
DTSTART;TZID=America/Denver:20260425T080000
DTEND;TZID=America/Denver:20260425T080000
DTSTAMP:20260422T093914
CREATED:20260113T232815Z
LAST-MODIFIED:20260113T232826Z
UID:10000483-1777104000-1777104000@www.donoralliance.org
SUMMARY:Wyoming Donor Dash
DESCRIPTION:Honoring the lives of organ\, eye\, and tissue donors\, celebrating the lives of transplant recipients and recognizing those who continue to wait for a transplant\, join us at the annual Wyoming Donor Dash. The 2026 Wyoming Donor Dash will be on Saturday\, April 25\, 2026. View our Wyoming Donor Dash Page for more details!
URL:https://www.donoralliance.org/event/wyoming-donor-dash-3/
LOCATION:Tate Pumphouse\, 1775 W. First St.\, Casper\, WY\, 82601\, United States
ATTACH;FMTTYPE=image/jpeg:https://www.donoralliance.org/wp-content/uploads/2025/01/wy-dd.jpg
END:VEVENT
BEGIN:VEVENT
DTSTART;TZID=America/Denver:20260426T090000
DTEND;TZID=America/Denver:20260426T090000
DTSTAMP:20260422T093914
CREATED:20260325T170136Z
LAST-MODIFIED:20260325T170144Z
UID:10000550-1777194000-1777194000@www.donoralliance.org
SUMMARY:Día del Niño at the Denver Museum of Nature & Science
DESCRIPTION:Donor Alliance is supporting the Mexican Cultural Center as we celebrate the Day of the Child with the Denver Museum of Nature & Science and the Mexican Cultural Center on Sunday\, Apr. 26! Our staff\, Transplantation Science educators and volunteers will have a booth with fun educational activities! In addition to FREE general admission for all visitors\, the celebration will include special performances\, music\, and activities for the entire family.
URL:https://www.donoralliance.org/event/dia-del-nino-at-the-denver-museum-of-nature-science-3/
LOCATION:Denver Museum of Nature and Science  2001 Colorado Blvd\, Denver\, CO 80205
CATEGORIES:Community
ATTACH;FMTTYPE=image/jpeg:https://www.donoralliance.org/wp-content/uploads/2025/02/dia-del-nino.jpg
END:VEVENT
BEGIN:VEVENT
DTSTART;TZID=America/Denver:20260428T100000
DTEND;TZID=America/Denver:20260428T100000
DTSTAMP:20260422T093914
CREATED:20260224T210855Z
LAST-MODIFIED:20260330T204428Z
UID:10000503-1777370400-1777370400@www.donoralliance.org
SUMMARY:Consulate of Guatemala Flag Raising
DESCRIPTION:April is National Donate Life Month\, a national observance highlighting the importance of organ\, eye and tissue donation. Flag-raising ceremonies bring awareness of what it means to be an organ donor and highlights the partnership between Donor Alliance and the Consulate of Guatemala.
URL:https://www.donoralliance.org/event/consulate-of-guatemala-flag-raising/
LOCATION:1001 S Monaco Street Pkwy\, Denver\, CO 80224
CATEGORIES:Community
ATTACH;FMTTYPE=image/jpeg:https://www.donoralliance.org/wp-content/uploads/2025/03/baf155239d035333449f2b31dacea674-large.jpg
END:VEVENT
BEGIN:VEVENT
DTSTART;TZID=America/Denver:20260429T103000
DTEND;TZID=America/Denver:20260429T103000
DTSTAMP:20260422T093914
CREATED:20260324T204126Z
LAST-MODIFIED:20260330T211206Z
UID:10000546-1777458600-1777458600@www.donoralliance.org
SUMMARY:Good Samaritan Hospital Flag Raising
DESCRIPTION:April is National Donate Life Month\, a national observance highlighting the importance of organ\, eye and tissue donation. Flag-raising ceremonies bring awareness of what it means to be an organ donor and highlights the partnership between Donor Alliance and Good Samaritan Hospital. The event will take place by the flag near the hospital’s main entrance.
URL:https://www.donoralliance.org/event/good-samaritan-hospital-flag-raising/
LOCATION:200 Exempla Circle\, Lafayette\, CO\, 80026
CATEGORIES:Hospital Partner
ATTACH;FMTTYPE=image/jpeg:https://www.donoralliance.org/wp-content/uploads/2025/03/baf155239d035333449f2b31dacea674-large.jpg
END:VEVENT
BEGIN:VEVENT
DTSTART;VALUE=DATE:20260430
DTEND;VALUE=DATE:20260501
DTSTAMP:20260422T093914
CREATED:20260224T212259Z
LAST-MODIFIED:20260317T220219Z
UID:10000504-1777507200-1777593599@www.donoralliance.org
SUMMARY:Denver Tech Center - Illuminated Building
DESCRIPTION:The Denver Tech Center will be illuminating their building to shine a light on the importance of registering to be an organ\, eye\, and tissue donor.
URL:https://www.donoralliance.org/event/denver-tech-center-illuminated-building/
CATEGORIES:Community
END:VEVENT
BEGIN:VEVENT
DTSTART;TZID=America/Denver:20260430T110000
DTEND;TZID=America/Denver:20260430T110000
DTSTAMP:20260422T093914
CREATED:20260409T200937Z
LAST-MODIFIED:20260409T200945Z
UID:10000606-1777546800-1777546800@www.donoralliance.org
SUMMARY:National Donor Remembrance Day Gathering
DESCRIPTION:As we close out National Donate Life Month and observe National Donor Remembrance Day\, please join us in a flag-lowering ceremony at Wings Over the Rockies following a celebratory lunch at Spruce Street.
URL:https://www.donoralliance.org/event/national-donor-remembrance-day-gathering/
LOCATION:7711 East Academy Blvd\, Denver\, CO 80230
CATEGORIES:Community
ATTACH;FMTTYPE=image/jpeg:https://www.donoralliance.org/wp-content/uploads/2025/03/baf155239d035333449f2b31dacea674-large.jpg
END:VEVENT
END:VCALENDAR